Workbook
Name CODIGO: ACERO!$A$2:$D$5

Sheet PERFIL ALUMINO
A1: CODIGO | B1: REFERENCIA | C1: VALOR | D1: UNIDAD DE MEDIDA
A2: 1001 | B2: GRIS PLATA 462 | C2: 5000 | D2: metros
A3: 1002 | B3: GRIS PLATA 192 | C3: =+$C$2 -> 5000 | D3: metros
A4: 1003 | B4: GRIS PLATA 147 | C4: =+$C$2 -> 5000 | D4: metros
A5: 1004 | B5: GRIS PLATA 144 | C5: =+$C$2 -> 5000 | D5: metros
A6: 1005 | B6: GRIS PLATA 194 | C6: =+$C$2 -> 5000 | D6: metros
A7: 1006 | B7: GRIS PLATA 393 | C7: =+$C$2 -> 5000 | D7: metros
A8: 1007 | B8: NATURAL MATE 349 | C8: 4170 | D8: metros
A9: 1008 | B9: NATURAL MATE 147 | C9: =+$C$8 -> 4170 | D9: metros
A10: 1009 | B10: NATURAL MATE 144 | C10: =+$C$8 -> 4170 | D10: metros
A11: 1010 | B11: NATURAL MATE 192 | C11: =+$C$8 -> 4170 | D11: metros
A12: 1011 | B12: NATURAL MATE 193 | C12: =+$C$8 -> 4170 | D12: metros
A13: 1012 | B13: NATURAL MATE 194 | C13: =+$C$8 -> 4170 | D13: metros
A14: 1013 | B14: NATURAL MATE 389 | C14: =+$C$8 -> 4170 | D14: metros
A15: 1014 | B15: NATURAL MATE 390 | C15: =+$C$8 -> 4170 | D15: metros
A16: 1015 | B16: NATURAL MATE 388 | C16: =+$C$8 -> 4170 | D16: metros
A17: 1016 | B17: NATURAL MATE 391 | C17: =+$C$8 -> 4170 | D17: metros
A18: 1017 | B18: NATURAL MATE 387 | C18: =+$C$8 -> 4170 | D18: metros
A19: 1018 | B19: NATURAL MATE 392 | C19: =+$C$8 -> 4170 | D19: metros
A20: 1019 | B20: NATURAL MATE 393 | C20: =+$C$8 -> 4170 | D20: metros
... A43: 1042 | B43: NATURAL MATE EMM 413 | C43: =+$C$8 -> 4170 | D43: metros
A44: 1043 | B44: BRONCE 462 | C44: =45000/6 -> 7500 | D44: metros
A45: 1044 | B45: BRONCE 249 | C45: =+$C$44 -> 7500 | D45: metros
A46: 1045 | B46: BRONCE 192 | C46: =+$C$44 -> 7500 | D46: metros
A47: 1046 | B47: BRONCE 147 | C47: =+$C$44 -> 7500 | D47: metros
A48: 1047 | B48: BRONCE 193 | C48: =+$C$44 -> 7500 | D48: metros
A49: 1048 | B49: BRONCE 144 | C49: =+$C$44 -> 7500 | D49: metros
A50: 1049 | B50: BRONCE 194 | C50: =+$C$44 -> 7500 | D50: metros
A51: 1050 | B51: BRONCE 388 | C51: =+$C$44 -> 7500 | D51: metros
A52: 1051 | B52: BRONCE 390 | C52: =+$C$44 -> 7500 | D52: metros
A53: 1052 | B53: BRONCE 389 | C53: =+$C$44 -> 7500 | D53: metros
A54: 1053 | B54: BRONCE 392 | C54: =+$C$44 -> 7500 | D54: metros
A55: 1054 | B55: BRONCE 387 | C55: =+$C$44 -> 7500 | D55: metros
A56: 1055 | B56: BRONCE U 78 | C56: =+$C$44 -> 7500 | D56: metros
... A71: 1070 | B71: BRONCE 413 | C71: =+$C$44 -> 7500 | D71: metros
A72: 1071 | B72: PINTURA BLANCA 174 | C72: 4700 | D72: metros
A73: 1072 | B73: PINTURA BLANCA 173 | C73: =+$C$72 -> 4700 | D73: metros
A74: 1073 | B74: PINTURA BLANCA 192 | C74: =+$C$72 -> 4700 | D74: metros
A75: 1074 | B75: PINTURA BLANCA 147 | C75: =+$C$72 -> 4700 | D75: metros
A76: 1075 | B76: PINTURA BLANCA 176 | C76: =+$C$72 -> 4700 | D76: metros
...

Sheet SISTEMAS DE ALUMINIO
A1: CODIGO | B1: REFERENCIA CRUDO | C1: COSTO CRUDO | D1: COSTO CROMADO | E1: UNIDAD DE MEDIDA
B2: SISTEMA5020
A3: 4001 | B3: 144 CABEZAL | C3: 4166.6667 | D3: 4833.3333 | E3: METROS
A4: 4002 | B4: 194 SILLAR | C4: 4333.3333 | D4: 5333.3333 | E4: METROS
A5: 4003 | B5: 193 JAMBA | C5: 3916.6667 | D5: 4833.3333 | E5: METROS
A6: 4004 | B6: 192 TRASLAPE | C6: 2583.3333 | D6: 3166.6667 | E6: METROS
A7: 4005 | B7: 147 ENGANCHE | C7: 3500 | D7: 4166.6667 | E7: METROS
A8: 4006 | B8: 349 HORIZONTAL | C8: 4250 | D8: 4916.6667 | E8: METROS
A9: 4007 | B9: 462 REFORZADA | C9: 4916.6667 | D9: =36000/6 -> 6000 | E9: METROS
A10: 4008 | B10: 581 SILLAR ALFA | C10: =46500/6 -> 7750 | D10: =57000/6 -> 9500 | E10: METROS
B11: SISTEMA 744
A12: 4009 | B12: 392 CABEZAL | C12: 4500 | D12: =33000/6 -> 5500 | E12: metros
A13: 4010 | B13: 387 SILLAR | C13: 5000 | D13: =40000/6 -> 6666.6667 | E13: metros
A14: 4011 | B14: 393 JAMBA | C14: 4500 | D14: =33000/6 -> 5500 | E14: metros
A15: 4012 | B15: 388 TRASLAPE | C15: 5000 | D15: =36500/6 -> 6083.3333 | E15: metros
A16: 4013 | B16: 391 ENGANCHE | C16: 5250 | D16: =39000/6 -> 6500 | E16: metros
A17: 4014 | B17: 389 H.I.S | C17: 3500 | D17: 4250 | E17: metros
A18: 4015 | B18: 390 H.I | C18: 4500 | D18: =36000/6 -> 6000 | E18: metros
A19: 4016 | B19: 403 ADAPTADOR | C19: 2583.3333 | D19: 3166.6667 | E19: metros
B20: SISTEMA 3831
A21: 4017 | B21: 173 CABEZ SILLAR | C21: 3416.6667 | D21: =25000/6 -> 4166.6667 | E21: metros
A22: 4018 | B22: 174 JAMBA | C22: 4416.6667 | D22: 5333.3333 | E22: metros
A23: 4019 | B23: 175 ADAPTADOR | C23: 3000 | D23: 3666.6667 | E23: metros
A24: 4020 | B24: 176 MARCONAVE | C24: =36000/6 -> 6000 | D24: =44000/6 -> 7333.3333 | E24: metros
A25: 4021 | B25: 177 PISAVIDRIO | C25: 2000 | D25: 2500 | E25: metros
A26: 4022 | B26: 292 DIVISOR | C26: =41000/6 -> 6833.3333 | D26: =50000/6 -> 8333.3333 | E26: metros
A27: 4023 | B27: 635 PISA VIDRIO REDONDO | C27: 2833.3333 | D27: 3000 | E27: metros
A28: 4024 | B28: 416 T 97 CON 175 | C28: =36500/6 -> 6083.3333 | D28: =50000/6 -> 8333.3333 | E28: metros
A29: 4025 | B29: 616 SILLAR ALFAJIBA | C29: =45000/6 -> 7500 | D29: =48000/6 -> 8000 | E29: metros
A30: 4026 | B30: 435 PISA VIDRIO PEQUEÑO | C30: 2750 | D30: 3000 | E30: metros
B31: SISTEMA 8025
A32: 4027 | B32: 150 SILLAR | C32: =43000/6 -> 7166.6667 | D32: =52500/6 -> 8750 | E32: metros
A33: 4028 | B33: 151 CABEZAL | C33: =43000/6 -> 7166.6667 | D33: =52000/6 -> 8666.6667 | E33: metros
A34: 4029 | B34: 152 JAMBA | C34: =41000/6 -> 6833.3333 | D34: =51000/6 -> 8500 | E34: metros
A35: 4030 | B35: 156 H.S | C35: =39000/6 -> 6500 | D35: =46000/6 -> 7666.6667 | E35: metros
A36: 4031 | B36: 157 H.I | C36: =50000/6 -> 8333.3333 | D36: =61000/6 -> 10166.667 | E36: metros
A37: 4032 | B37: 190 TRASLAPE | C37: 2833.3333 | D37: =56000/6 -> 9333.3333 | E37: metros
A38: 4033 | B38: 191 ENGANCHE | C38: =47000/6 -> 7833.3333 | D38: =54000/6 -> 9000 | E38: metros
A39: 4034 | B39: 158 ADAPTADOR | C39: 2833.3333 | D39: 3333.3333 | E39: metros
A40: 4035 | B40: 706 CABEZAL TRIPLE | C40: =70000/6 -> 11666.667 | D40: =83000/6 -> 13833.333 | E40: metros
...

Sheet ACCESORIOS DE ALUMINIO Y ACERO
A1: CODIGO | B1: REFERENCIA | C1: VALOR | D1: UNIDAD DE MEDIDA
A2: 3001 | B2: REMACHES 4-2 natural | C2: 100 | D2: UNIDAD
A3: 3002 | B3: REMACCHES 4-2 NEGROS | C3: 100 | D3: UNIDAD
A4: 3003 | B4: REMACCHES 4-4 NEGROS | C4: 100 | D4: UNIDAD
A5: 3004 | B5: REMACHES 4-4 natural | C5: 100 | D5: UNIDAD
A6: 3005 | B6: EMPAQUE V. FIJO 4MM REF.C30021 METROS | C6: 600 | D6: UNIDAD
A7: 3006 | B7: EMPAQUE ESPAGUETIS 3831 REF. C040307 METROS | C7: 600 | D7: UNIDAD
A8: 3007 | B8: EMPAQUE 5020 Y 744 VIDRIO 6MM METROS | C8: 600 | D8: UNIDAD
A9: 3008 | B9: BRAZO PROYECTANTE # 6 | C9: 3500 | D9: UNIDAD
A10: 3009 | B10: BRAZO PROYECTANTE # 8 | C10: 3500 | D10: UNIDAD
A11: 3010 | B11: BRAZO PROYECTANTE # 10 | C11: 3500 | D11: UNIDAD
A12: 3011 | B12: BRAZO PROYECTANTE # 16 | C12: 3500 | D12: UNIDAD
A13: 3012 | B13: MANIJAS PROYECTANTES BLANCAS DER. | C13: 15000 | D13: UNIDAD
... A285: 3284 | B285: CIERRE MULTISISTEMAS 3825 NEGRO | C285: 3100 | D285: unidad
B286: TOTAL | C286: =SUM(C2:C285) -> 1630843 | D286: =Tabla5[[#This Row],[VALOR]]/2 -> 815421.5
D291: =+C291/2 -> 0

Sheet ACERO
A1: CODIGO | B1: REFERENCIA | C1: VALOR | D1: UNIDAD MEDIDA
A2: 2001 | B2: ANGULO DE 2 X 2 de 3/16 | C2: 213440 | D2: MTS
A3: 2002 | B3: ANGULO DE 1 1/2 X 1 1/2 X 3/16 | C3: 157760 | D3: MTS
A4: 2003 | B4: ANGULO DE 1 X 1 de 1/8 | C4: 73080 | D4: MTS
A5: 2004 | B5: ANGULO DE 1 X 1 de 3/16 | C5: 107184 | D5: MTS
A6: 2005 | B6: ARANDELA DE 6'' X 4'' X 3/16 | C6: 11600 | D6: UND
A7: 2006 | B7: ARANDELAS DE 2" X 1" X 3/16 | C7: 2296 | D7: UND
A8: 2007 | B8: ARANDELAS DE 3 1/2" X 2 1/2" X 3/16 | C8: 1200 | D8: UND
A9: 2008 | B9: ARANDELAS DE 3 1/2" X 2" X 3/16 | C9: 5220 | D9: UND
A10: 2009 | B10: ARANDELAS DE 6" X 5 1/4" X 3/16 | C10: 1350 | D10: UND
A11: 2010 | B11: BARRA DE 1 1/2 | C11: 547520 | D11: MTS
A12: 2011 | B12: BARRA DE 1 1/4 | C12: 348000 | D12: MTS
A13: 2012 | B13: BALINERAS DE HERAJE DESLIZANTE | C13: 12000 | D13: UND
... A207: 2206 | B207: BUJES DE 3/4 DE 3 CM | C207: 2400 | D207: UNIDAD
B208: TOTAL | C208: =SUM($C$2:$C$207) -> 10136974

Sheet PERFIL Y ACCESORIOS HIERRO
A1: CODIGO | B1: REFERENCIA | C1: VALOR | D1: UNIDAD DE MEDIDA
A2: 5001 | B2: BRAZO # 8 | C2: 5000 | D2: unidad
A3: 5002 | B3: BRAZO # 10 | C3: 6000 | D3: unidad
A4: 5003 | B4: BISAGRA DE 2" | C4: 2000 | D4: unidad
A5: 5004 | B5: BISAGRA DE 3" | C5: 6000 | D5: unidad
A6: 5005 | B6: CIERRE 1/2 LUNA | C6: 4000 | D6: unidad
A7: 5006 | B7: JAWAR DOBLE CARA | C7: 8500 | D7: unidad
A8: 5007 | B8: JAWAR CENCILLA | C8: 5500 | D8: unidad
A9: 5008 | B9: PICO LORO DE 1/2 CILINDRO 30 | C9: 35000 | D9: unidad
A10: 5009 | B10: PICO LORO DE DOBLE CILINDRO 30 | C10: 40000 | D10: unidad
A11: 5010 | B11: PICO LORO DE 1/2 CILINDRO 16 | C11: 30000 | D11: unidad
A12: 5011 | B12: PICO LORO DE DOBLE CILINDRO 16 | C12: 35000 | D12: unidad
A13: 5012 | B13: CHAPA MOVIL MOVIL | C13: 70000 | D13: unidad
... A62: 5061 | B62: BISAGRA SENCILLA ACERO | C62: 40000 | D62: unidad
A63: 5062 | B63: EMPAQUE 3825 | C63: =3*1150 -> 3450 | D63: unidad
A64: 5063 | B64: EMPAQUE 3831 | C64: =1150*4 -> 4600 | D64: unidad
A65: 5064 | B65: EMPAQUE 3831 ANTIRETRACTIL PL | C65: =1150*4 -> 4600 | D65: unidad
A66: 5065 | B66: EMPAQUE 3831 VIDRIO 6MM | C66: =1150*4 -> 4600 | D66: unidad
A67: 5066 | B67: EMPAQUE 5020 | C67: =4*1150 -> 4600 | D67: unidad
A68: 5067 | B68: EMPAQUE 5020 CANALVIDRIOS | C68: =4*1150 -> 4600 | D68: unidad
A69: 5068 | B69: EMPAQUE 5020 VIDRIO 4MM | C69: =4*1150 -> 4600 | D69: unidad
A70: 5069 | B70: EMPAQUE 5MM | C70: =4*1150 -> 4600 | D70: unidad
A71: 5070 | B71: EMPAQUE 8025 | C71: =4*1150 -> 4600 | D71: unidad
A72: 5071 | B72: EMPAQUE ALAMO | C72: =4*1150 -> 4600 | D72: unidad
A73: 5072 | B73: EMPAQUE CABINA DE BAÑO | C73: =4*1150 -> 4600 | D73: unidad
A74: 5073 | B74: EMPAQUE CABINA TRAPTE | C74: =4*1150 -> 4600 | D74: unidad
A75: 5074 | B75: EMPAQUE CABINA VIDRIO TEMPLADO 5MM | C75: =4*1150 -> 4600 | D75: unidad
A76: 5075 | B76: EMPAQUE CORDÓN ANGEO | C76: =4*1150 -> 4600 | D76: unidad
A77: 5076 | B77: EMPAQUE CUÑA PROYECTANTE 4MM | C77: =4*1150 -> 4600 | D77: unidad
A78: 5077 | B78: EMPAQUE CUÑERO 3831 | C78: =4*1150 -> 4600 | D78: unidad
... A90: 5089 | B90: EMPAQUE VIDRIO FIJO 4MM | C90: =4*1150 -> 4600 | D90: unidad
A91: 5090 | B91: FELPA PARA SISTEMA MONUMENTAL | C91: 320 | D91: unidad
A92: 5091 | B92: FELPA PARA SISTEMAS | C92: 320 | D92: unidad
A93: 5092 | B93: ROLLO ANGEO | C93: 18000 | D93: unidad
A94: 5093 | B94: FELPA | C94: 320 | D94: unidad
B95: TOTAL | C95: =+SUM(C2:C94) -> 1795850

Sheet MODULLO_MATERIA_PRIMA_
B2: Este módulo estará alimentado por el inventario de el software contable Siigo, este módulo será además alimentado por el departamento de compras y reportara la existencia de materia prima, en inventario, de igual forma hará la respectiva descarga de materiales cuando se requiera de en el área de producción.
C7: MODULO INVENTARIODE MATERIALES EN EXISTENCIA
C8: codigo | D8: material | E8: existencia | F8: valor x metro o unidad | G8: Total
C9: 1234 | D9: alumino x 100 pulg | E9: 45 | F9: 3500 | G9: =F9*E9 -> 157500
C10: 1235 | D10: alumino x 200 pulg | E10: 54 | F10: 4356 | G10: =F10*E10 -> 235224
C11: 1236 | D11: alumino x 300 pulg | E11: 67 | F11: 3256 | G11: =F11*E11 -> 218152
C12: 1236 | D12: alumino x 400 pulg | E12: 0 | F12: 5468 | G12: =F12*E12 -> 0
C13: 1237 | D13: alumino x 500 pulg | E13: 0 | F13: 8477 | G13: =F13*E13 -> 0
C14: 1237.7 | D14: alumino x 600 pulg | E14: 45 | F14: 6543 | G14: =F14*E14 -> 294435
C15: 1238.4 | D15: alumino x 1000 pulg | E15: 334 | F15: 2789 | G15: =F15*E15 -> 931526
C16: 1239.1 | D16: alumino x 2000 pulg | E16: 3 | F16: 4321 | G16: =F16*E16 -> 12963
C17: 1239.8 | D17: alumino x 3000 pulg | E17: 77 | F17: 3452 | G17: =F17*E17 -> 265804
C18: 1240.5 | D18: tornilo x 20 pulg | E18: 66 | F18: 2345 | G18: =F18*E18 -> 154770
C19: 1241.2 | D19: tornilo x 40 pulg | E19: 6 | F19: 9298 | G19: =F19*E19 -> 55788
C20: 1241.9 | D20: tornilo x 60 pulg | E20: 9 | F20: 83729 | G20: =F20*E20 -> 753561
... C34: 1251.7 | D34: soldadura x 80 espesor | E34: 432 | F34: -39871.2 | G34: =F34*E34 -> -17224358
C35: Total en inventario en existencia | G35: =SUM(G9:G34) -> -24331287

Sheet MOD_ALUMINIO_
F4: NOMINA DE LA LINEA DE ALUMINIO
E5: Nº | F5: A. NOMBRE | G5: B. FUNCIONES | H5: C. SALARIO | I5: D. ARP | J5: E. FACTOR PRESTACIONAL FP | K5: F. NO CONSTITUYE SALARIO | N5: G. AUX TRANS | O5: H. FACTOR PRESTACIONAL Fp | P5: I. VHMOD
E6: 1 | F6: Abel Angel Vaquez | G6: Oficial de Ensable | H6: 611300 | I6: 2.463 | J6: =(($G$36+I6)/100)+1 -> 1.53793 | K6: =172962.96/12 -> 14413.58 | M6: =K6+L6 -> 14413.58 | N6: 70500 | O6: =1+$G$47 -> 1.1766 | P6: =((H6*J6)+(N6*O6)+M6)/$L$34 -> 6084.3332
E7: 2 | F7: Corlos Mario Ospina | G7: Ayudante De Instalación | H7: 611300 | I7: 2.463 | J7: =(($G$36+I7)/100)+1 -> 1.53793 | K7: =172962.96/12 -> 14413.58 | M7: =K7+L7 -> 14413.58 | N7: 70500 | O7: =1+$G$47 -> 1.1766 | P7: =((H7*J7)+(N7*O7)+L7)/$L$34 -> 5999.8059
E8: 3 | F8: Cristian Andres Estrada | G8: Conductor Ayudante | H8: =H7 -> 611300 | I8: 2.463 | J8: =(($G$36+I8)/100)+1 -> 1.53793 | K8: =172962.96/12 -> 14413.58 | M8: =K8+L8 -> 14413.58 | N8: 70500 | O8: =1+$G$47 -> 1.1766 | P8: =((H8*J8)+(N8*O8)+L8)/$L$34 -> 5999.8059
E9: 4 | F9: Darwin Albeiro Casa | G9: Ayudante De Instalación | H9: 779500 | I9: 2.463 | J9: =(($G$36+I9)/100)+1 -> 1.53793 | K9: =172962.96/12 -> 14413.58 | L9: 68500 | M9: =K9+L9 -> 82913.58 | N9: 70500 | O9: =1+$G$47 -> 1.1766 | P9: =((H9*J9)+(N9*O9)+L9)/$L$34 -> 7918.5241
E10: 5 | F10: Eduardo Otalvaro Blandón | G10: Oficial De Instalación | H10: 970400 | I10: 2.463 | J10: =(($G$36+I10)/100)+1 -> 1.53793 | K10: =172962.96/12 -> 14413.58 | M10: =K10+L10 -> 14413.58 | N10: 70500 | O10: =1+$G$47 -> 1.1766 | P10: =((H10*J10)+(N10*O10)+L10)/$L$34 -> 9238.5502
E11: 6 | F11: Eider Alexander Palacios | G11: Ayudante de Ensamble | H11: 750400 | I11: 2.463 | J11: =(($G$36+I11)/100)+1 -> 1.53793 | K11: =172962.96/12 -> 14413.58 | M11: =K11+L11 -> 14413.58 | N11: 70500 | O11: =1+$G$47 -> 1.1766 | P11: =((H11*J11)+(N11*O11)+L11)/$L$34 -> 7254.3571
E12: 7 | F12: Fabian jimenez | G12: Ayudante | H12: 642800 | I12: 2.463 | J12: =(($G$36+I12)/100)+1 -> 1.53793 | K12: =172962.96/12 -> 14413.58 | M12: =K12+L12 -> 14413.58 | N12: 70500 | O12: =1+$G$47 -> 1.1766 | P12: =((H12*J12)+(N12*O12)+L12)/$L$34 -> 6283.9063
E13: 8 | F13: Gonzalo Alberto Higuita | G13: Ayudante De Instalación | H13: 628800 | I13: 2.463 | J13: =(($G$36+I13)/100)+1 -> 1.53793 | K13: =172962.96/12 -> 14413.58 | L13: 70000 | M13: =K13+L13 -> 84413.58 | N13: 70500 | O13: =1+$G$47 -> 1.1766 | P13: =((H13*J13)+(N13*O13)+L13)/$L$34 -> 6568.1485
E14: 9 | F14: Gonzalo De Jesús Ángel Franco | G14: Oficial De Ensamble | H14: 1348400 | I14: 2.463 | J14: =(($G$36+I14)/100)+1 -> 1.53793 | K14: =172962.96/12 -> 14413.58 | M14: =K14+L14 -> 14413.58 | N14: 70500 | O14: =1+$G$47 -> 1.1766 | P14: =((H14*J14)+(N14*O14)+L14)/$L$34 -> 12647.755
E15: 10 | F15: Jaime Alberto Isaza | G15: Oficial De Ensamble | H15: 873800 | I15: 2.463 | J15: =(($G$36+I15)/100)+1 -> 1.53793 | K15: =172962.96/12 -> 14413.58 | L15: 70000 | M15: =K15+L15 -> 84413.58 | N15: 70500 | O15: =1+$G$47 -> 1.1766 | P15: =((H15*J15)+(N15*O15)+L15)/$L$34 -> 8777.8181
E16: 11 | F16: Jose Manuel Cuitiva | G16: Oficial de Ensable | H16: 874800 | I16: 2.463 | J16: =(($G$36+I16)/100)+1 -> 1.53793 | K16: =172962.96/12 -> 14413.58 | M16: =K16+L16 -> 14413.58 | N16: 70500 | O16: =1+$G$47 -> 1.1766 | P16: =((H16*J16)+(N16*O16)+L16)/$L$34 -> 8376.3281
E17: 12 | F17: Juan Daniel Villa | G17: Oficial De Instalación | H17: 611300 | I17: 2.463 | J17: =(($G$36+I17)/100)+1 -> 1.53793 | K17: =172962.96/12 -> 14413.58 | M17: =K17+L17 -> 14413.58 | N17: 70500 | O17: =1+$G$47 -> 1.1766 | P17: =((H17*J17)+(N17*O17)+L17)/$L$34 -> 5999.8059
E18: 13 | F18: Luis Feernando Rivera | G18: Ayudante | H18: 628800 | I18: 2.463 | J18: =(($G$36+I18)/100)+1 -> 1.53793 | K18: =172962.96/12 -> 14413.58 | M18: =K18+L18 -> 14413.58 | N18: 70500 | O18: =1+$G$47 -> 1.1766 | P18: =((H18*J18)+(N18*O18)+L18)/$L$34 -> 6157.6395
E19: 14 | F19: Luis Orlando Trujillo | G19: Ayudante De Instalación Y Conductor | H19: 682800 | I19: 2.463 | J19: =(($G$36+I19)/100)+1 -> 1.53793 | K19: =172962.96/12 -> 14413.58 | L19: 0 | M19: =K19+L19 -> 14413.58 | N19: 70500 | O19: =1+$G$47 -> 1.1766 | P19: =((H19*J19)+(N19*O19)+L19)/$L$34 -> 6644.6687
E20: 15 | F20: Marlon Eduardo Quintero | G20: Oficial De Instalación | H20: 894800 | I20: 2.463 | J20: =(($G$36+I20)/100)+1 -> 1.53793 | K20: =172962.96/12 -> 14413.58 | M20: =K20+L20 -> 14413.58 | N20: 70500 | O20: =1+$G$47 -> 1.1766 | P20: =((H20*J20)+(N20*O20)+L20)/$L$34 -> 8556.7093
E21: 16 | F21: Victor Alfonso Cardona | G21: Ayudante De Instalación Y Conductor | H21: 758600 | I21: 2.463 | J21: =(($G$36+I21)/100)+1 -> 1.53793 | K21: =172962.96/12 -> 14413.58 | M21: =K21+L21 -> 14413.58 | N21: 70500 | O21: =1+$G$47 -> 1.1766 | P21: =((H21*J21)+(N21*O21)+L21)/$L$34 -> 7328.3134
E22: y | F22: Total | H22: =SUM(H6:H21) -> 12279100 | I22: 2.463 | J22: =(($G$36+I22)/100)+1 -> 1.53793 | K22: =SUM(K6:K21) -> 230617.28 | L22: =SUM(L6:L21) -> 208500 | M22: =SUM(M6:M21) -> 439117.28 | N22: 70500 | O22: =1+$G$47 -> 1.1766 | P22: =SUM(P6:P21) -> 119836.47
N23: Promedio VHMOD | P23: =P22/E21 -> 7489.7793
F25: FP= Factor Prestacional Total
J26: CALCULO VHMOD
F27: Cesantías | G27: 8.33 | J27: dias del año | L27: 365
F28: Vacaciones | G28: 4.17 | J28: dias festivos del año | L28: -71
F29: Prima De Servicios | G29: 8.33 | J29: dias real laborado al año | L29: =SUM(L27:L28) -> 294
F30: Int. Sobre Cesantías | G30: 1 | J30: Dias al mes | L30: =L29/12 -> 24.5
F31: Salud | G31: 8.5 | J31: horas al año | L31: =L29*8 -> 2352
B32: 3153706387 | F32: Pensión | G32: 12 | J32: horas al mes | L32: =L31/12 -> 196
F33: Caja de Compensación | G33: 4 | J33: % de eficiencia | L33: 0.87
F34: ICBF | G34: 3 | J34: Horas Reales Mensulea 87% | L34: =L32*L33 -> 170.52
F35: Sena | G35: 2 | J35: Horas Reales Anuales 87% | L35: =L31*L33 -> 2046.24
G36: =SUM(G27:G35) -> 51.33
F37: Fp= | G37: =G36/100 -> 0.5133
F41: Fp= Factor Prestacional
I42: aquí podemos tener en cuenta la eficiencia según la OIT un ser humano puede laborar a una eficienca entre el 85% y 90% Para Sernaluminios la eficiencia es del 87%
F43: Cesantías | G43: 8.33
F44: Prima de Servicios | G44: 8.33
F45: Int. Sobre Cesantías | G45: 1
G46: =SUM(G43:G45) -> 17.66
F47: Fp= | G47: 0.1766 | I47: horas reales al mes | J47: 196 * 87%= | L47: =L32*87% -> 170.52 | O47: horas trabajadas con eficiencia
...

Sheet MOD_ACERO
F5: NOMINA DE LA LINEA DE ACERO
E6: Nº | F6: A. NOMBRE | G6: B. FUNCIONES | H6: C. SALARIO | I6: D. ARP | J6: E. FACTOR PRESTACIONAL FP | K6: F. NO CONSTITUYE SALARIO | N6: G. AUX TRANS | O6: H. FACTOR PRESTACIONAL Fp | P6: I. VHMOD
E7: 1 | F7: Álvaro Mesa Valencia | G7: Tornero | H7: 820000 | I7: 2.463 | J7: =(($C$25+I7)/100)+1 -> 1.53793 | K7: =172962.96/12 -> 14413.58 | M7: =K7+L7 -> 14413.58 | N7: 70500 | O7: =1+$C$36 -> 1.1766 | P7: =((H7*J7)+(N7*O7)+M7)/$G$25 -> 7966.6108
E8: 2 | F8: carlos paz | G8: Tornero CNC | H8: 929500 | I8: 2.463 | J8: =(($C$25+I8)/100)+1 -> 1.53793 | K8: =172962.96/12 -> 14413.58 | L8: 12000 | M8: =K8+L8 -> 26413.58 | N8: 70500 | O8: =1+$C$36 -> 1.1766 | P8: =((H8*J8)+(N8*O8)+M8)/$G$25 -> 9024.5708
E9: 3 | F9: Rosa Ivonne Pérez herrera | G9: Super Numeraria | H9: 611300 | I9: 2.463 | J9: =(($C$25+I9)/100)+1 -> 1.53793 | K9: =172962.96/12 -> 14413.58 | M9: =K9+L9 -> 14413.58 | N9: 70500 | O9: =1+$C$36 -> 1.1766 | P9: =((H9*J9)+(N9*O9)+M9)/$G$25 -> 6084.3332
E10: 4 | F10: Verónica Pájaro Puerto | G10: supervisora | H10: 957000 | I10: 2.463 | J10: =(($C$25+I10)/100)+1 -> 1.53793 | K10: =172962.96/12 -> 14413.58 | L10: 68500 | M10: =K10+L10 -> 82913.58 | N10: 70500 | O10: =1+$C$36 -> 1.1766 | P10: =((H10*J10)+(N10*O10)+M10)/$G$25 -> 9603.9344
E11: 5 | F11: Rubén Darío Taborda | G11: Soldador | H11: 929500 | I11: 2.463 | J11: =(($C$25+I11)/100)+1 -> 1.53793 | K11: =172962.96/12 -> 14413.58 | M11: =K11+L11 -> 14413.58 | N11: 70500 | O11: =1+$C$36 -> 1.1766 | P11: =((H11*J11)+(N11*O11)+M11)/$G$25 -> 8954.1978
E12: Total | H12: =SUM(H7:H11) -> 4247300 | I12: 2.463 | J12: =(($C$25+I12)/100)+1 -> 1.53793 | K12: =SUM(K7:K11) -> 72067.9 | L12: =SUM(L7:L11) -> 80500 | M12: =SUM(M7:M11) -> 152567.9 | N12: =SUM(N7:N11) -> 352500 | O12: =1+$C$36 -> 1.1766 | P12: =SUM(P7:P11) -> 41633.647
N13: Promedio VHMOD | P13: =P12/E11 -> 8326.7294
B14: FP= Factor Prestacional Total
B16: Cesantías | C16: 8.33
B17: Vacaciones | C17: 4.17 | F17: CALCULO VHMOD
B18: Prima De Servicios | C18: 8.33 | F18: dias del año | G18: 365
B19: Int. Sobre Cesantías | C19: 1 | F19: dias festivos del año | G19: -71
B20: Salud | C20: 8.5 | F20: dias real laborado al año | G20: =SUM(G18:G19) -> 294
B21: Pensión | C21: 12 | F21: Dias al mes | G21: =G20/12 -> 24.5
B22: ICBF | C22: 3 | F22: horas al año | G22: =G20*8 -> 2352
B23: Sena | C23: 2 | F23: horas al mes | G23: =G22/12 -> 196
B24: Caja D Compensación | C24: 4 | F24: % de eficiencia | G24: 0.87
C25: =SUM(C16:C24) -> 51.33 | F25: Horas Reales 87% | G25: =G23*G24 -> 170.52
B26: Fp= | C26: =C25/100 -> 0.5133 | F26: Horas Reales Anuales 87% | G26: =G22*G24 -> 2046.24
B30: Fp= Factor Prestacional | F30: aquí podemos tener en cuenta la eficiencia según la OIT un ser humano puede laborar a una eficienca entre el 85% y 90%
B32: Cesantías | C32: 8.33 | F32: teniendo en cuenta que la eficiencia es del 87% seri asi
B33: Prima de Servicios | C33: 8.33
B34: Int. Sobre Cesantías | C34: 1 | F34: horas reales al mes | G34: 196 * 87%= | H34: =G23*87% -> 170.52 | J34: horas trabajadas con eficiencia
C35: =SUM(C32:C34) -> 17.66
B36: Fp= | C36: =C35/100 -> 0.1766

Sheet MOD HIERRO 
C4: NOMINA HIERRO
B5: Nº | C5: A. NOMBRE | D5: B. FUNCIONES | E5: C. SALARIO | F5: D. ARP | G5: E. FACTOR PRESTACIONAL FP | H5: F. NO CONSTITUYE SALARIO | K5: G. AUX TRANS | L5: H. FACTOR PRESTACIONAL Fp
B6: 1
B7: 2
B8: Total | E8: =SUM(E6:E7) -> 0 | F8: 2.348 | G8: =(($D$22+F8)/100)+1 -> 1.53678 | H8: =SUM(H6:H7) -> 0 | I8: =SUM(I6:I7) -> 0 | J8: =$D$33+1 -> 1.1766 | K8: =SUM(K6:K7) -> 0
I9: Promedio VHMOD | K9: =K8/B7 -> 0
C11: FP= Factor Prestacional Total
C13: Cesantías | D13: 8.33
C14: Vacaciones | D14: 4.17
C15: Prima De Servicios | D15: 8.33 | F15: CALCULO VHMOD | J15: NOTA: SERNALUMINIOS S.A.S no cuenta con una nomina de empleados para la lainea de aluminio pero consideramos importante hacerla parte del diseño del sistema, dentro de la base de datos por si en algun momento la empresa desea emplear por nomina algun operario para la linea de hierro
C16: Int. Sobre Cesantías | D16: 1 | F16: dias del año | G16: 365
C17: Salud | D17: 8.5 | F17: dias festivos del año | G17: -71
C18: Pensión | D18: 12 | F18: dias real laborado al año | G18: =SUM(G16:G17) -> 294
C19: ICBF | D19: 3 | F19: Dias al mes | G19: =G18/12 -> 24.5
C20: Sena | D20: 2 | F20: horas al año | G20: =G18*8 -> 2352
C21: Caja D Compensación | D21: 4 | F21: horas al mes | G21: =G20/12 -> 196
D22: =SUM(D13:D21) -> 51.33 | F22: % de eficiencia | G22: 0.87
C23: Fp= | D23: =D22/100 -> 0.5133 | F23: Horas Reales 87% | G23: =G21*G22 -> 170.52
F24: Horas año % de eficiencia | G24: =G20*G22 -> 2046.24
C27: Fp= Factor Prestacional
C29: Cesantías | D29: 8.33
C30: Prima de Servicios | D30: 8.33
C31: Int. Sobre Cesantías | D31: 1
D32: =SUM(D29:D31) -> 17.66
C33: Fp= | D33: =D32/100 -> 0.1766

Sheet MOD DE ADMON
E7: NOMINA ADMINISTRACION
E8: Nº | F8: A. NOMBRE | G8: B. FUNCIONES | H8: C. SALARIO | I8: D. ARP | J8: E. FACTOR PRESTACIONAL FP | K8: F. NO CONSTITUYE SALARIO | N8: G. AUX TRANS | O8: H. FACTOR PRESTACIONAL Fp | P8: VHMOD
E9: 1 | F9: Sandra Serna | G9: Administradora | H9: 1129500 | I9: 1.04 | J9: =(($C$28+I9)/100)+1 -> 1.5237 | K9: =172962.96/12 -> 14413.58 | M9: =K9+L9 -> 14413.58 | N9: 70500 | O9: =1+$C$39 -> 1.1766 | P9: =((H9*J9)+(N9*O9)+M9)/$G$26 -> 9277.4644
E10: 2 | F10: Erlys Dary Londoño | G10: Auxiliar Contable | H10: 1077700 | I10: 1.04 | J10: =(($C$28+I10)/100)+1 -> 1.5237 | K10: =172962.96/12 -> 14413.58 | M10: =K10+L10 -> 14413.58 | N10: 70500 | O10: =1+$C$39 -> 1.1766 | P10: =((H10*J10)+(N10*O10)+M10)/$G$26 -> 8874.7723
E11: 3 | F11: Shirley Tatiana Parada | G11: Secretaria | H11: 898800 | I11: 1.04 | J11: =(($C$28+I11)/100)+1 -> 1.5237 | K11: =172962.96/12 -> 14413.58 | M11: =K11+L11 -> 14413.58 | N11: 70500 | O11: =1+$C$39 -> 1.1766 | P11: =((H11*J11)+(N11*O11)+M11)/$G$26 -> 7484.0073
E12: 4 | F12: Mildre María Ibarra Porto | G12: Almacenista | H12: 779500 | I12: 1.04 | J12: =(($C$28+I12)/100)+1 -> 1.5237 | K12: =172962.96/12 -> 14413.58 | L12: 68500 | M12: =K12+L12 -> 82913.58 | N12: 70500 | O12: =1+$C$39 -> 1.1766 | P12: =((H12*J12)+(N12*O12)+M12)/$G$26 -> 6906.0614
E13: 5 | F13: Andres Julian Ramirez | G13: Vendedor | H13: 1503800 | I13: 1.04 | J13: =(($C$28+I13)/100)+1 -> 1.5237 | K13: =172962.96/12 -> 14413.58 | M13: =K13+L13 -> 14413.58 | O13: =1+$C$39 -> 1.1766 | P13: =((H13*J13)+(N13*O13)+M13)/$G$26 -> 11764.049
E14: 6 | F14: Jairo Serna | G14: Gerente | H14: 5000000 | I14: 1.04 | J14: =(($C$28+I14)/100)+1 -> 1.5237 | K14: =172962.96/12 -> 14413.58 | M14: =K14+L14 -> 14413.58 | O14: =1+$C$39 -> 1.1766 | P14: =((H14*J14)+(N14*O14)+M14)/$G$26 -> 38943.437
E15: Total | H15: =SUM(H9:H14) -> 10389300 | I15: 1.04 | J15: =(($C$28+I15)/100)+1 -> 1.5237 | K15: =SUM(K9:K14) -> 86481.48 | L15: =SUM(L9:L14) -> 68500 | M15: =1+$C$39 -> 1.1766 | N15: =SUM(N9:N14) -> 282000 | O15: =1+$C$39 -> 1.1766 | P15: =SUM(P9:P14) -> 83249.791
N16: Promedio VHMOD | P16: =P15/E14 -> 13874.965
B17: FP= Factor Prestacional Total
B19: Cesantías | C19: 8.33
B20: Vacaciones | C20: 4.17 | F20: CALCULO VHMOD
B21: Prima De Servicios | C21: 8.33 | F21: dias del año | G21: 365 | I21: NOTA: la nomina de administracion hace parte de los costos indirectos de fabricacion CIF, es un costo fijo que sirve a la tres lines de produccion.
B22: Int. Sobre Cesantías | C22: 1 | F22: dias festivos del año | G22: -71
B23: Salud | C23: 8.5 | F23: dias real laborado al año | G23: =SUM(G21:G22) -> 294
B24: Pensión | C24: 12 | F24: Dias al mes | G24: =G23/12 -> 24.5
B25: ICBF | C25: 3 | F25: horas al año | G25: =G23*8 -> 2352
B26: Sena | C26: 2 | F26: horas al mes | G26: =G25/12 -> 196
B27: Caja D Compensación | C27: 4 | F27: % de eficiencia | G27: 0.87
C28: =SUM(C19:C27) -> 51.33 | F28: Horas Reales 87% | G28: =G26*G27 -> 170.52
B29: Fp= | C29: =C28/100 -> 0.5133 | F29: Horas Reales Anuales 87% | G29: =G25*G27 -> 2046.24
F32: aquí podemos tener en cuenta la eficiencia según la OIT un ser humano puede laborar a una eficienca entre el 85% y 90%
B33: Fp= Factor Prestacional
F34: teniendo en cuenta que la eficiencia es del 87% seri asi
B35: Cesantías | C35: 8.33
B36: Prima de Servicios | C36: 8.33 | F36: horas reales al mes | G36: 196 * 87%= | H36: =G26*87% -> 170.52 | J36: horas trabajadas con eficiencia
B37: Int. Sobre Cesantías | C37: 1
C38: =SUM(C35:C37) -> 17.66
B39: Fp= | C39: =C38/100 -> 0.1766

Sheet Hoja1
C3: Ficha Estandar
C4: MATERIALES | D4: Qe | E4: Pe | F4: Ce
C5: alumino gp
C6: vidrio
C7: acsesorios
C11: MANO DE OBRA
C18: CIF
C19: Variables
C23: Fijos
C29: Costo Estandar por Unidad =

Sheet DATOS
A1: COSTOS UNITARIOS | B1: REFERENCIAS A | C1: REFERENCIAS B | D1: REFERENCIAS C | E1: TOTALES
A2: Materiales | B2: 25200 | C2: 38300 | D2: 20800
A3: mano de obra | B3: 10700 | C3: 12200 | D3: 7500
A4: otras variables | B4: 3900 | C4: 7500 | D4: 3500
A5: PRODUCCION/UNIDADES | B5: 150 | C5: 100 | D5: 200
A6: HMOD | B6: 45 | C6: 40 | D6: 80 | E6: =+B6+C6+D6 -> 165
A7: Montaje | B7: 35 | C7: 40 | D7: 30 | E7: =+B7+C7+D7 -> 105
A8: Acabado | B8: 70 | C8: 30 | D8: 120 | E8: =+B8+C8+D8 -> 220
A9: HORA MAQUINA:
A10: Corte | B10: 25 | C10: 30 | D10: 70 | E10: =+B10+C10+D10 -> 125
A11: Montaje | B11: 35 | C11: 40 | D11: 30 | E11: =+B11+C11+D11 -> 105
A12: Acabado | B12: 35 | C12: 15 | D12: 60 | E12: =+B12+C12+D12 -> 110
B18: COSTOS INDIRECTOS
A19: CIF | B19: VALOR | C19: BASE DE DISTRIBUCIÓN
A20: Arrendamiento bodega | B20: 1540000 | C20: area metros cuadrados
A21: Reparacion maquinaria:
A22: Acabado | B22: 506500 | C22: directo al departamento
A23: Seguro incendio de maquinaria
A24: Corte | B24: 327000 | C24: directo al departamento
A25: DOBLADOR | B25: 192600 | C25: directo al departamento
A26: Acabado | B26: 76800 | C26: directo al departamento
A27: Equipo de carga | B27: 18100 | C27: directo al departamento
A28: Mantenimiento edificio | B28: 14600 | C28: directo al departamento
A29: Tiempo ocioso:
A30: Corte | B30: 135000 | C30: directo al departamento
A31: DOBLADOR | B31: 203600 | C31: directo al departamento
A32: Acabado | B32: 25200 | C32: directo al departamento
A33: Mantenimiento equipo carga | B33: 42900 | C33: directo al departamento
A34: Vigilancia | B34: 520000 | C34: area metros cuadrados
A35: Dotaciòn | B35: 172200 | C35: numero de operarios
A36: Servicio alunbrado | B36: 181200 | C36: numero de bombillos
A37: Servicio acueducto | B37: 96300 | C37: numero de operarios
A38: Cafeteria | B38: 14700 | C38: numero de operaciones
A39: Suministros varios
A40: corte | B40: 40200 | C40: directo al departamento
A41: sodadura | B41: 30800 | C41: directo al departamento
A42: cerrajero | B42: 75200 | C42: directo al departamento
A43: doblador | B43: 60000 | C43: directo al departamento
A44: Acabado | B44: 45000 | C44: directo al departamento
A45: Nomina:
...

Sheet DEPARTAMENTA
F2: DPT SERVICIOS | H2: DPT PRODUCTIVO
B3: CIF | C3: B.ASIGNA | D3: VALOR | E3: TASA | F3: SERVICIO AL CLIENTE | G3: OFICINAS ADMINISTRATIVAS | H3: CORTE | I3: SERRAJERO | J3: SOLDADOR | K3: DOBLADOR | L3: ACABADO | M3: TOTAL
B4: ARENDAMIENTO | C4: METROS CUADR | D4: 1540000 | E4: =+D4/DATOS!B59 -> 3623.5294 | F4: =+E4*DATOS!B57 -> 54352.941 | G4: =+E4*DATOS!B58 -> 36235.294 | H4: =+E4*DATOS!B52 -> 434823.53 | I4: =+E4*DATOS!B54 -> 253647.06 | J4: =E4*DATOS!B53 -> 543529.41 | K4: =+E4*DATOS!B55 -> 181176.47 | L4: =+E4*DATOS!B56 -> 36235.294 | M4: =SUM(F4:L4) -> 1540000
B5: REPARACION MAQUINAS | C5: DIRECTO | D5: 506500 | E5: 0 | F5: 0 | G5: 0 | H5: 0 | I5: 0 | J5: 0 | K5: 0 | L5: =+D5 -> 506500 | M5: =SUM(F5:L5) -> 506500
B6: SEGUROS CONTRA INCENDIOS | C6: DIRECTO | D6: 629100 | E6: 0 | F6: =+DATOS!B28 -> 14600 | G6: =+DATOS!B27 -> 18100 | H6: =+DATOS!B24 -> 327000 | I6: 0 | J6: 0 | K6: =+DATOS!B25 -> 192600 | L6: =+DATOS!B26 -> 76800 | M6: =SUM(F6:L6) -> 629100
B7: TIEMPO OCIOSO | C7: DIRECTO | D7: 363800 | E7: 0 | F7: 0 | G7: 0 | H7: =+DATOS!B30 -> 135000 | I7: 0 | J7: 0 | K7: =+DATOS!B31 -> 203600 | L7: =+DATOS!B32 -> 25200 | M7: =SUM(F7:L7) -> 363800
B8: VIGILANCIA | C8: METROS CUADR | D8: 520000 | E8: =+D8/DATOS!B59 -> 1223.5294 | F8: =+E8*DATOS!B57 -> 18352.941 | G8: =+E8*DATOS!B58 -> 12235.294 | H8: =+E8*DATOS!B52 -> 146823.53 | I8: =+E8*DATOS!B54 -> 85647.059 | J8: =+E8*DATOS!B53 -> 183529.41 | K8: =+E8*DATOS!B55 -> 61176.471 | L8: =+E8*DATOS!B56 -> 12235.294 | M8: =SUM(F8:L8) -> 520000
B9: DOTACION UNIFORME | C9: No OPERARIOS | D9: 172200 | E9: =+D9/DATOS!C59 -> 12300 | F9: =+E9*DATOS!C57 -> 36900 | G9: =+E9*DATOS!C58 -> 24600 | H9: =+E9*DATOS!C52 -> 24600 | I9: =+E9*DATOS!C54 -> 36900 | J9: =+E9*DATOS!C53 -> 12300 | K9: =+E9*DATOS!C55 -> 24600 | L9: =+E9*DATOS!C56 -> 12300 | M9: =SUM(F9:L9) -> 172200
B10: SERVICIO ALUMBRADO | C10: No BOMBILLAS | D10: 181200 | E10: =+D10/DATOS!D59 -> 9536.8421 | F10: =+E10*DATOS!D57 -> 19073.684 | G10: =+E10*DATOS!D58 -> 19073.684 | H10: =+E10*DATOS!D52 -> 28610.526 | I10: =+E10*DATOS!D54 -> 19073.684 | J10: =+E10*DATOS!D53 -> 47684.211 | K10: =+E10*DATOS!D55 -> 38147.368 | L10: =+E10*DATOS!D56 -> 9536.8421 | M10: =SUM(F10:L10) -> 181200
B11: ACUEDUCTO | C11: No OPERARIOS | D11: =96300 -> 96300 | E11: =+D11/DATOS!C59 -> 6878.5714 | F11: =+E11*DATOS!C57 -> 20635.714 | G11: =+E11*DATOS!C58 -> 13757.143 | H11: =+E11*DATOS!C52 -> 13757.143 | I11: =+E11*DATOS!C54 -> 20635.714 | J11: =+E11*DATOS!C53 -> 6878.5714 | K11: =+E11*DATOS!C55 -> 13757.143 | L11: =+E11*DATOS!C56 -> 6878.5714 | M11: =SUM(F11:L11) -> 96300
B12: NOMINA | C12: DIRECTO | D12: 1080000 | E12: 0 | F12: =+DATOS!B46 -> 450000 | G12: =+DATOS!B47 -> 630000 | H12: 0 | I12: 0 | J12: 0 | K12: 0 | L12: 0 | M12: =SUM(F12:L12) -> 1080000
B13: DEPRECIACION EQUIPOS | C13: DIRECTO | D13: 180700 | E13: 0 | F13: 0 | G13: =+DATOS!B48 -> 180700 | H13: 0 | I13: 0 | J13: 0 | K13: 0 | L13: 0 | M13: =SUM(F13:L13) -> 180700
B14: NOMINA | D14: =SUM(D4:D13) -> 5269800 | F14: =SUM(F4:F13) -> 613915.28 | G14: =SUM(G4:G13) -> 934701.42 | H14: =SUM(H4:H13) -> 1110614.7 | I14: =SUM(I4:I13) -> 415903.52 | J14: =SUM(J4:J13) -> 793921.61 | K14: =SUM(K4:K13) -> 715057.45 | L14: =SUM(L4:L13) -> 685686 | M14: =SUM(M4:M13) -> 5269800
B15: MANTENIMIENTO EDIFICIO | C15: METROS CUADR | D15: =+F14 -> 613915.28 | E15: =+D15/(DATOS!B59-DATOS!B57) -> 1497.3543 | F15: 0 | G15: =+E15*DATOS!B58 -> 14973.543 | H15: =+E15*DATOS!B52 -> 179682.52 | I15: =+E15*DATOS!B54 -> 104814.8 | J15: =+E15*DATOS!B53 -> 224603.15 | K15: =+E15*DATOS!B55 -> 74867.717 | L15: =+E15*DATOS!B56 -> 14973.543 | M15: =+SUM(F15:L15) -> 613915.28
B16: TOTAL MANEJO INVENTARIO | C16: No OPERAciones | D16: =+G14+G15 -> 949674.96 | E16: =+D16/(DATOS!E59-DATOS!E58) -> 15827.916 | F16: 0 | G16: =+G15+G14 -> 949674.96 | H16: =+E16*DATOS!E52 -> 316558.32 | I16: =+E16*DATOS!E54 -> 158279.16 | J16: =+E16*DATOS!E53 -> 237418.74 | K16: =+E16*DATOS!E55 -> 79139.58 | L16: =+E16*DATOS!E56 -> 158279.16 | M16: =+SUM(G16:L16) -> 1899349.9
B17: TOTAL DEPRTAMENTALIZADO | H17: =+H16+H15+H14 -> 1606855.6 | I17: =+I16+I15+I14 -> 678997.48 | J17: =+J16+J15+J14 -> 1255943.5 | K17: =+K16+K15+K14 -> 869064.75 | L17: =+L16+L15+L14 -> 858938.7 | M17: =+SUM(H17:L17) -> 5269800

Sheet informacion_
B11: COSTOS | C11: TASA | D11: REFERENCIA 202 | E11: REFERENCIA 205 | F11: REFERENCIA 210
B12: CMD | D12: =+DATOS!B2*DATOS!B5 -> 3780000 | E12: =+DATOS!C2*DATOS!C5 -> 3830000 | F12: =+DATOS!D2*DATOS!D5 -> 4160000
B13: CMOD | D13: =+DATOS!B3*DATOS!B5 -> 1605000 | E13: =+DATOS!C3*DATOS!C5 -> 1220000 | F13: =+DATOS!D3*DATOS!D5 -> 1500000
B14: ORTAS VARIABLES | D14: =+DATOS!B4*DATOS!B5 -> 585000 | E14: =+DATOS!C4*DATOS!C5 -> 750000 | F14: =+DATOS!D4*DATOS!D5 -> 700000
B15: CIF:
B16: CORTE Hmaqui | C16: =+DEPARTAMENTA!H17/DATOS!E10 -> 12854.845 | D16: =+C16*DATOS!B10 -> 321371.11 | E16: =+C16*DATOS!C10 -> 385645.34 | F16: =+C16*DATOS!D10 -> 899839.12
B17: DOBLADO Hmod | C17: =+DEPARTAMENTA!K17/DATOS!E7 -> 8276.8071 | D17: =+C17*DATOS!B11 -> 289688.25 | E17: =+C17*DATOS!C11 -> 331072.29 | F17: =+C17*DATOS!D11 -> 248304.21
B18: ACABADO Hmod | C18: =+DEPARTAMENTA!L17/DATOS!E8 -> 3904.2668 | D18: =+C18*DATOS!B8 -> 273298.68 | E18: =+C18*DATOS!C8 -> 117128.01 | F18: =+C18*DATOS!D8 -> 468512.02
B19: TOTAL | D19: =+D12+D13+D14+D16+D17+D18 -> 6854358 | E19: =+E12+E13+E14+E16+E17+E18 -> 6633845.6 | F19: =+F12+F13+F14+F16+F17+F18 -> 7976655.4
B20: COSTO UNITARIO | D20: =+D19/DATOS!B5 -> 45695.72 | E20: =+E19/DATOS!C5 -> 66338.456 | F20: =+F19/DATOS!D5 -> 39883.277
H57: que es el qu
H58: líneas deberá estar en el recuadro de compras
H59: Una vez ubicado el usuario en esta pantalla podrá ingresar o modificar la información en todo aquello que requiera para llegar al resultdo final; cada uno de los recuadros me trasladaran donde se encra la información uent
H62: Hoja del costo
H63: Una vez identificados y calculados los valores de los tres elementos del costo los llevamos a la hoja del costo del producto, y así finalmente se ha costeado el producto teniendo en cuenta todo aquello que directa o indirectamente hizo parte de este; como también se facilita la toma de decisiones y la administración de los recursos productivos de la empresa.
J73: COTIZACIÓN
M74: COSTOS INDIRECTOS DE FABRICACIÓN
H75: PRODUCTO | I75: TOTAL | J75: MATERIALES | K75: TOTAL | L75: MANO DE OBRA DIRECTA | N75: TOTAL
H76: Aluminio
H77: Acero
H78: Hierro

Sheet Hoja2
C3: ORDEN DE PRODUCCION
C4: O.P #
C5: Cliente
C6: Referencia
C7: Fecha Y Hora De Inicio | I7: finalmente esta es la oreden de produccion en la que toda la informacion que se resume producto de los elementos del costo
C8: Fecha Y Hora De Finalización
C9: # Unidades
C10: Precio De Venta Unitario
C11: Coste De Venta Unitario
C12: Costo De Material De Obra Directa
C13: Costo De Mano De Obra Directa
C14: Costos Indirectos De Fabricación
C15: Costos Totales
C16: Costos Unitarios
F19: CMD | J19: CMOD | O19: CIF
F20: Fecha | G20: Proceso | H20: Cantidad | I20: Costo Total | J20: Fecha | K20: Proceso | L20: HMOD | M20: VHMOD | N20: Costo Total | O20: Tasa Predeterminada | P20: nivel de op real | Q20: costo total
F31: Total | J31: Total | O31: Total

Sheet COTIZADOR 
C5: COTIZACIÓN
C6: PRODUCTO | F6: MATERIALES | I6: MANO DE OBRA DIRECTA | L6: COSTOS INDIRECTOS DE FABRICACIÓN
C7: LINEA DE PRODUCCION | D7: UNIDAD DE MEDIDA | E7: TOTAL | F7: MATERIALES | G7: SUMINISTROS | H7: TOTAL | I7: Vr. NOMINA/PRESTACION DE SERVICIOS | J7: HORAS | K7: TOTAL | L7: COSTOS FIJOS | M7: COSTOS VARIABLES | N7: TASA DE ASIGNACION | O7: TOTAL
C8: Aluminio | D8: 35 | E8: =24000*D8 -> 840000 | F8: =E8 -> 840000 | G8: 12500 | H8: =F8+G8 -> 852500 | I8: =+MOD_ALUMINIO_!P22 -> 119836.47 | J8: 45 | K8: =I8*J8 -> 5392641.1 | L8: 543200 | M8: 22000 | N8: =(L8+M8)/J8 -> 12560 | O8: =N8*J8 -> 565200
D9: º
C17: Acero | D17: 0 | E17: =34000*D17 -> 0 | F17: =E17 -> 0 | H17: =F17+G17 -> 0 | I17: 32500 | J17: 12 | K17: =I17*J17 -> 390000 | L17: 43200 | M17: 22000 | N17: =(L17+M17)/J17 -> 5433.3333 | O17: =N17*J17 -> 65200
C18: Hierro | D18: 2 | E18: =18500*D18 -> 37000 | F18: =E18 -> 37000 | H18: =F18+G18 -> 37000 | I18: 45200 | J18: 3 | K18: =I18*J18 -> 135600 | L18: 354000 | M18: 22000 | N18: =(K18+M18)/J18 -> 52533.333 | O18: =N18*J18 -> 157600
C19: =SUM(E8:E18) -> 877000 | F19: =SUM(H8:H18) -> 889500 | I19: =SUM(K8:K18) -> 5918241.1 | L19: =SUM(O8:O18) -> 788000

Sheet COSTOS INDIRECTOS DE FABRICACIO
B5: ESTUDIO DE FABRICA
B6: LÍNEAS PRODUCTIVAS | C6: AREA METROS CUADRADOS | D6: NUMERO DE OPERARIOS | E6: NUMERO DE LAMPARAS | F6: COSTO RPIMO
B7: ALUMINIO | C7: =+(29.5+8.3)*2 -> 75.6 | D7: 16 | E7: 9 | F7: =+'PERFIL ALUMINO'!$C$111+'SISTEMAS DE ALUMINIO'!$D$145+'ACCESORIOS DE ALUMINIO Y ACERO'!$D$286+MOD_ALUMINIO_!$P$22 -> 2720760.3
B8: ACERO | C8: =+(20+3.34) -> 23.34 | D8: 5 | E8: 6 | F8: =+ACERO!$C$208+'ACCESORIOS DE ALUMINIO Y ACERO'!$D$286+MOD_ACERO!$P$12 -> 10994029
B9: HIERRO | C9: =+(11.3+7.8)*2+(7+7.2)*2 -> 66.6 | D9: 0 | E9: 6 | F9: =+'PERFIL Y ACCESORIOS HIERRO'!$C$95+'MOD HIERRO '!$K$8 -> 1795850
B10: ADMON Y VENTAS | C10: =+(9.5+3)*2+(10+4.65)*2 -> 54.3 | D10: 5 | E10: 10 | F10: 0
B11: MANEJO DE INVENTARIOS | C11: =+(5.5+4.26)*2+(3.75+4.26)*2 -> 35.54 | D11: 1 | E11: 3 | F11: 0
B12: TOTALES | C12: =SUM(C7:C11) -> 255.38 | D12: =SUM(D7:D11) -> 27 | E12: =SUM(E7:E11) -> 34 | F12: =SUM(F7:F11) -> 15510639
B16: CIF | C16: VALOR | D16: TASA DE ASIGNACION | E16: BASE DE ASIGNACION | F16: DEPARTAMENTOS DE SERVICIO | H16: LINEAS PRODUCTIVAS | K16: TOTAL
F17: ADMOM Y VENTAS | G17: MANEJO DE INVENTA. | H17: ALUMINIO | I17: ACERO | J17: HIERRO
B18: Arrendamiento departamento productivo hierro. | C18: 500000 | E18: directo | F18: 0 | G18: 0 | H18: 0 | I18: 0 | J18: =+C18 -> 500000 | K18: =SUM($F$18:$J$18) -> 500000
B19: Servicios públicos área de hierro | C19: 367000 | E19: directo | F19: 0 | G19: 0 | H19: 0 | I19: 0 | J19: =+C19 -> 367000 | K19: =SUM($F$19:$J$19) -> 367000
B20: Reparación de maquinarias: Acero, aluminio y hierro. | C20: 500000 | E20: directo | F20: 0 | G20: 0 | H20: =$C$20*30% -> 150000 | I20: =$C$20*55% -> 275000 | J20: =$C$20*15% -> 75000 | K20: =SUM($F$20:$J$20) -> 500000
B21: Depreciación de maquinaria acero | C21: 807069 | E21: directo | F21: 0 | G21: 0 | H21: 0 | I21: =$C$21 -> 807069 | J21: 0 | K21: =SUM($F$21:$J$21) -> 807069
B22: Suministros varios. | C22: 3600000 | D22: =$C$22/$F$12 -> 0.23209875 | E22: costo primo de cada línea | F22: 0 | G22: 0 | H22: =$F$7*$D$22 -> 631485.08 | I22: =$F$8*$D$22 -> 2551700.4 | J22: =$F$9*$D$22 -> 416814.55 | K22: =SUM($F$22:$J$22) -> 3600000 | M22: tasa de asgnacion
B23: Arrento departo de servicio administración y ventas. | C23: 882000 | D23: =$C$23/$C$12 -> 3453.6769 | E23: metros cuadrados | F23: =$D$23*$C$10 -> 187534.65 | G23: =$D$23*$C$11 -> 122743.68 | H23: =$D$23*$C$7 -> 261097.97 | I23: =$D$23*$C$8 -> 80608.818 | J23: =$D$23*$C$9 -> 230014.88 | K23: =SUM($F$23:$J$23) -> 882000
B24: Servicio públicos área de aluminio y acero | C24: 851688 | D24: =$C$24/($F$12-$F$9) -> 0.062099971 | E24: costo primo de cada línea | F24: 0 | G24: 0 | H24: =$D$24*$F$7 -> 168959.14 | I24: =$D$24*$F$8 -> 682728.86 | J24: 0 | K24: =SUM($F$24:$J$24) -> 851688
B25: Servicio públicos área admón. y ventas | C25: 94395 | D25: =+C25/E12 -> 2776.3235 | E25: numero de lamparas | F25: =D25*E10 -> 27763.235 | G25: =+D25*E11 -> 8328.9706 | H25: =+D25*E7 -> 24986.912 | I25: =+D25*E8 -> 16657.941 | J25: =+D25*E9 -> 16657.941 | K25: =SUM(F25:J25) -> 94395
B26: Nomina administración y ventas | C26: 10389300 | D26: =$C$26/$D$12 -> 384788.89 | E26: número de operarios | F26: =$D$26*$D$10 -> 1923944.4 | G26: =$D$26*$D$11 -> 384788.89 | H26: =$D$26*$D$7 -> 6156622.2 | I26: =$D$26*$D$8 -> 1923944.4 | J26: =$D$26*$D$93 -> 0 | K26: =SUM($F$26:$J$26) -> 10389300
B27: Impuesto predial: Aluminio y Acero | C27: 2000000 | D27: =$C$27/($C$7+$C$8) -> 20214.271 | E27: metros cuadrados | F27: 0 | G27: 0 | H27: =$D$27*$C$7 -> 1528198.9 | I27: =$D$27*$C$8 -> 471801.09 | J27: 0 | K27: =SUM($F$27:$J$27) -> 2000000
B28: TOTAL | C28: =SUM(C18:C27) -> 19991452 | F28: =SUM($F$18:$F$27) -> 2139242.3 | G28: =SUM($G$18:$G$27) -> 515861.54 | H28: =SUM($H$18:$H$27) -> 8921350.2 | I28: =SUM($I$18:$I$27) -> 6809510.5 | J28: =SUM($J$18:$J$27) -> 1605487.4 | K28: =SUM(K18:K27) -> 19991452
B29: DAMON Y VENTA | C29: =$F$28 -> 2139242.3 | D29: =$C$29/($C$12-$C$10) -> 10638.762 | E29: metros cuadrados | F29: 0 | G29: =$D$29*$C$11 -> 378101.61 | H29: =$D$29*$C$7 -> 804290.43 | I29: =$D$29*$C$8 -> 248308.71 | J29: =$D$29*$C$9 -> 708541.57 | K29: =SUM($F$29:$J$29) -> 2139242.3
B30: MANEJO DE INVENTARIOS | C30: =$G$28+$G$29 -> 893963.15 | D30: =$C$30/($F$12-$F$11) -> 0.057635481 | E30: costo primo de cada línea | F30: 0 | G30: =$C$30 -> 893963.15 | H30: =$D$30*$F$7 -> 156812.33 | I30: =$D$30*$F$8 -> 633646.14 | J30: =$D$30*$F$9 -> 103504.68 | K30: =SUM($F$30:$J$30) -> 1787926.3
B31: TOTAL | F31: 0 | G31: 0 | H31: =$H$28+$H$29+$H$30 -> 9882453 | I31: =$I$28+$I$29+$I$30 -> 7691465.4 | J31: =$J$28+$J$29+$J$30 -> 2417533.6 | K31: =SUM($H$31+$I$31+$J$31) -> 19991452
B45: CIF | C45: CLASIFICACION DEL CIF | D45: VALOR CIF LÍNEA DE ALUMINIO | F45: CIF | G45: CLASIFICACION DEL CIF | H45: VALOR CIF LÍNEA DE ACERO | J45: CIF | K45: CLASIFICACION DEL CIF | L45: VALOR CIF LÍNEA DE HIERRO
B46: Arrendamiento departamento productivo hierro. | C46: no aplica | D46: 0 | F46: Arrendamiento departamento productivo hierro. | G46: no aplica | H46: 0 | J46: Arrendamiento departamento productivo hierro. | K46: fijo | L46: =+J18 -> 500000
B47: Servicios públicos área de hierro | C47: no aplica | D47: 0 | F47: Servicios públicos área de hierro | G47: no aplica | H47: 0 | J47: Servicios públicos área de hierro | K47: variable | L47: =+J19 -> 367000
B48: Reparación de maquinarias: Acero, aluminio y hierro. | C48: variable | D48: =+H20 -> 150000 | F48: Reparación de maquinarias: Acero, aluminio y hierro. | G48: variable | H48: =$I$20 -> 275000 | J48: Reparación de maquinarias: Acero, aluminio y hierro. | K48: variable | L48: =+J20 -> 75000
B49: Depreciación de maquinaria acero | C49: no aplica | D49: 0 | F49: Depreciación de maquinaria acero | G49: fija | H49: =$I$21 -> 807069 | J49: Depreciación de maquinaria acero | K49: no aplica | L49: 0
B50: Suministros varios. | C50: Variable | D50: =$H$22 -> 631485.08 | F50: Suministros varios. | G50: Variable | H50: =$I$22 -> 2551700.4 | J50: Suministros varios. | K50: Variable | L50: =J22 -> 416814.55
B51: Arrento departo de servicio administración y ventas. | C51: Fijo | D51: =$H$23 -> 261097.97 | F51: Arrento departo de servicio administración y ventas. | G51: Fijo | H51: =$I$23 -> 80608.818 | J51: Arrento departo de servicio administración y ventas. | K51: Fijo | L51: =J23 -> 230014.88
B52: Servicio públicos área de aluminio y acero | C52: Variable | D52: =$H$24 -> 168959.14 | F52: Servicio públicos área de aluminio y acero | G52: Variable | H52: =$I$24 -> 682728.86 | J52: Servicio públicos área de aluminio y acero | K52: No aplica | L52: =J24 -> 0
B53: Servicio públicos área admón. y ventas | C53: Variable | D53: =$H$25 -> 24986.912 | F53: Servicio públicos área admón. y ventas | G53: Variable | H53: =$I$25 -> 16657.941 | J53: Servicio públicos área admón. y ventas | K53: Variable | L53: 16657.941
B54: Nomina administración y ventas | C54: Fijo | D54: =$H$26 -> 6156622.2 | F54: Nomina administración y ventas | G54: Fijo | H54: =$I$26 -> 1923944.4 | J54: Nomina administración y ventas | K54: Fijo | L54: =J26 -> 0
B55: Impuesto predial | C55: Fijo | D55: =$H$27 -> 1528198.9 | F55: Impuesto predial | G55: Fijo | H55: =$I$27 -> 471801.09 | J55: Impuesto predial | K55: No aplica | L55: =J27 -> 0
B56: DAMON Y VENTA | C56: Fijo | D56: =$H$29 -> 804290.43 | F56: DAMON Y VENTA | G56: Fijo | H56: =$I$29 -> 248308.71 | J56: DAMON Y VENTA | K56: Fijo | L56: =J29 -> 708541.57
B57: MANEJO DE INVENTARIOS | C57: Fijo | D57: =$H$30 -> 156812.33 | F57: MANEJO DE INVENTARIOS | G57: Fijo | H57: =$I$30 -> 633646.14 | J57: MANEJO DE INVENTARIOS | K57: Fijo | L57: =J30 -> 103504.68
B58: TOTAL | D58: =SUM(D50:D57) -> 9732453 | F58: TOTAL | H58: =SUM(H50:H57) -> 6609396.4 | J58: TOTAL | L58: =SUM(L50:L57) -> 1475533.6
B59: Total de CIF fijos | D59: =$D$57+$D$56+$D$55+$D$54+$D$51 -> 8907021.9 | F59: Total de CIF fijos | H59: =$H$57+$H$56+$H$55+$H$54+$H$51+H49 -> 4165378.2 | J59: Total de CIF fijos | L59: =L51+L56+L57+$L$46 -> 1542061.1
B60: Total de CIF variables | D60: =$D$50+$D$52+$D$53+$D$48 -> 975431.12 | F60: Total de CIF variables | H60: =$H$50+$H$52+$H$53+$H$48 -> 3526087.2 | J60: Total de CIF variables | L60: =$L$50+L53+L47+$L$48 -> 875472.49
...

Sheet DISEÑO COTIZADOR
A1: COTIZADOR
A3: NOMBRE DEL CLIENTE | K3: ORDEN DE PRODUCCION No: | N3: O 1 | Q3: TOTAL
A4: CEDULA O NIT
K5: FECHA | M5: 36892 | Q5: VISTA PREVIA DE INFORME
Q6: ENVIAR A IMPRESORA
B10: ALUMINIO
A11: OBRA | B11: HIERRO | D11: MATERIALES | L11: VHMOD | Q11: CIF
B12: ACERO
D17: ACCESORIOS O SUMINISTROS | L17: CANT.HMOD

Sheet DISEÑO DE COSTO HOJA REAL
A1: HOJA DE COSTO REAL
A3: NOMBRE DEL CLIENTE | K3: ORDEN DE PRODUCCION No: | N3: O 1 | Q3: TOTAL
A4: CEDULA O NIT
K5: FECHA | M5: 36892 | Q5: VISTA PREVIA DE INFORME
Q6: ENVIAR A IMPRESORA
B10: ALUMINIO
A11: OBRA | B11: HIERRO | D11: MATERIALES | L11: VHMOD | Q11: CIF
B12: ACERO
D17: ACCESORIOS O SUMINISTROS | L17: CANT.HMOD

Sheet PRUEBA PILOTO COTIZADOR Y HOJA 
A1: SERNALUMINIOS | Q1: SERNALUMINIOS
A2: HOJA DE COSTO REAL | Q2: COTIZADOR
A4: CLIENTE | Q4: CLIENTE
A5: NIT | Q5: NIT
A8: ARTICULO A PRODUCIR | C8: ventana en aluminio mxm con dos rodamientos un metro por un metro | I8: CANTIDAD | K8: =+AA8 -> 1 | Q8: ARTICULO A PRODUCIR | S8: ventana en aluminio mxm con dos rodamientos | Y8: CANTIDAD | AA8: 1
A10: INICIADO | G10: TERMINADO | Q10: INICIADO | W10: TERMINADO
A12: MATERIALES | G12: MANO DE OBRA | K12: COSTOS INDIRECTOS | Q12: MATERIALES | W12: MANO DE OBRA | AA12: COSTOS INDIRECTOS
A13: CODIGO | B13: MATERIALES | C13: CANTIDAD TOTAL | D13: cantidad unitaria | E13: PRECIO UNITARIO | F13: VALOR TOTAL | G13: HORAS TRABAJADAS | H13: HORAS POR UNIDAD | I13: VALOR | J13: VALOR TOTAL | K13: ASIGNACION | L13: NIVEL DE ACTIVIDAD | M13: TOTAL | Q13: CODIGO | R13: MATERIALES | S13: CANTIDAD TOTAL | T13: cantidad unitaria | U13: PRECIO UNITARIO | V13: VALOR TOTAL | W13: HORAS TRABAJADAS | X13: HORAS POR UNIDAD | Y13: VALOR | Z13: VALOR TOTAL | AA13: TIPO DE CIF | AB13: NIVEL DE ACTIVIDAD | AC13: TOTAL
A14: =+'SISTEMAS DE ALUMINIO'!A3 -> 4001 | B14: =+'SISTEMAS DE ALUMINIO'!B3 -> 144 CABEZAL | C14: =+D14*$K$8 -> 1 | D14: 1 | E14: =+'SISTEMAS DE ALUMINIO'!C3 -> 4166.6667 | F14: =+E14*C14 -> 4166.6667 | G14: 1 | H14: 0.583 | I14: =+MOD_ALUMINIO_!P23 -> 7489.7793 | J14: =+I14*G14 -> 7489.7793 | K14: ='COSTOS INDIRECTOS DE FABRICACIO'!$D$62+'COSTOS INDIRECTOS DE FABRICACIO'!$D$63 -> 0.63714029 | L14: =+F26+J26 -> 64296.446 | M14: =+K14*L14 -> 40965.856 | Q14: =+A14 -> 4001 | R14: =+B14 -> 144 CABEZAL | S14: =+T14*$K$8 -> 1 | T14: 1 | U14: =+E14:E24 -> 4166.6667 | V14: =+U14*S14 -> 4166.6667 | W14: 0.58 | X14: 0.583 | Y14: =+I14 -> 7489.7793 | Z14: =+Y14*W14 -> 4344.072 | AA14: ='COSTOS INDIRECTOS DE FABRICACIO'!$D$62+'COSTOS INDIRECTOS DE FABRICACIO'!$D$63 -> 0.63714029 | AB14: =+S26+Y26 -> 61150.739 | AC14: =+AB14*AA14 -> 38961.599
A15: =+'SISTEMAS DE ALUMINIO'!A4 -> 4002 | B15: =+'SISTEMAS DE ALUMINIO'!B4 -> 194 SILLAR | C15: =+D15*$K$8 -> 1 | D15: 1 | E15: =+'SISTEMAS DE ALUMINIO'!C4 -> 4333.3333 | F15: =+E15*C15 -> 4333.3333 | Q15: =+A15 -> 4002 | R15: =+B15 -> 194 SILLAR | S15: =+T15*$K$8 -> 1 | T15: 1 | U15: =+E15:E25 -> 4333.3333 | V15: =+U15*S15 -> 4333.3333
A16: =+'SISTEMAS DE ALUMINIO'!A5 -> 4003 | B16: =+'SISTEMAS DE ALUMINIO'!B5 -> 193 JAMBA | C16: =+D16*$K$8 -> 2 | D16: 2 | E16: =+'SISTEMAS DE ALUMINIO'!C5 -> 3916.6667 | F16: =+E16*C16 -> 7833.3333 | Q16: =+A16 -> 4003 | R16: =+B16 -> 193 JAMBA | S16: =+T16*$K$8 -> 2 | T16: 2 | U16: =+E16:E26 -> 3916.6667 | V16: =+U16*S16 -> 7833.3333
A17: =+'SISTEMAS DE ALUMINIO'!A7 -> 4005 | B17: =+'SISTEMAS DE ALUMINIO'!B7 -> 147 ENGANCHE | C17: =+D17*$K$8 -> 2 | D17: 2 | E17: =+'SISTEMAS DE ALUMINIO'!C7 -> 3500 | F17: =+E17*C17 -> 7000 | Q17: =+A17 -> 4005 | R17: =+B17 -> 147 ENGANCHE | S17: =+T17*$K$8 -> 2 | T17: 2 | U17: =+E17:E27 -> 3500 | V17: =+U17*S17 -> 7000
A18: =+'SISTEMAS DE ALUMINIO'!A6 -> 4004 | B18: =+'SISTEMAS DE ALUMINIO'!B6 -> 192 TRASLAPE | C18: =+D18*$K$8 -> 2 | D18: 2 | E18: =+'SISTEMAS DE ALUMINIO'!C6 -> 2583.3333 | F18: =+E18*C18 -> 5166.6667 | Q18: =+A18 -> 4004 | R18: =+B18 -> 192 TRASLAPE | S18: =+T18*$K$8 -> 2 | T18: 2 | U18: =+E18:E28 -> 2583.3333 | V18: =+U18*S18 -> 5166.6667
A19: =+'SISTEMAS DE ALUMINIO'!A8 -> 4006 | B19: =+'SISTEMAS DE ALUMINIO'!B8 -> 349 HORIZONTAL | C19: =+D19*$K$8 -> 2 | D19: 2 | E19: =+'SISTEMAS DE ALUMINIO'!C8 -> 4250 | F19: =+E19*C19 -> 8500 | Q19: =+A19 -> 4006 | R19: =+B19 -> 349 HORIZONTAL | S19: =+T19*$K$8 -> 2 | T19: 2 | U19: =+E19:E29 -> 4250 | V19: =+U19*S19 -> 8500
A20: =+'PERFIL Y ACCESORIOS HIERRO'!A31 -> 5030 | B20: =+'PERFIL Y ACCESORIOS HIERRO'!B31 -> RODAMIENTO 5020 | C20: =+D20*$K$8 -> 4 | D20: 4 | E20: =+'PERFIL Y ACCESORIOS HIERRO'!C31 -> 1500 | F20: =+E20*C20 -> 6000 | Q20: =+A20 -> 5030 | R20: =+B20 -> RODAMIENTO 5020 | S20: =+T20*$K$8 -> 4 | T20: 4 | U20: =+E20:E30 -> 1500 | V20: =+U20*S20 -> 6000
A21: =+'ACCESORIOS DE ALUMINIO Y ACERO'!A250 -> 3249 | B21: =+'ACCESORIOS DE ALUMINIO Y ACERO'!B250 -> TORNILLO TUERCA Y ARANDELA 1/2X4´1/4 | C21: =+D21*$K$8 -> 14 | D21: 14 | E21: =+'ACCESORIOS DE ALUMINIO Y ACERO'!C250 -> 150 | F21: =+E21*C21 -> 2100 | Q21: =+A21 -> 3249 | R21: =+B21 -> TORNILLO TUERCA Y ARANDELA 1/2X4´1/4 | S21: =+T21*$K$8 -> 14 | T21: 14 | U21: =+E21:E31 -> 150 | V21: =+U21*S21 -> 2100
A22: =+'SISTEMAS DE ALUMINIO'!A125 -> 4111 | B22: =+'SISTEMAS DE ALUMINIO'!B125 -> 4 MM CLARO | C22: =+D22*$K$8 -> 1 | D22: 1 | E22: =+'SISTEMAS DE ALUMINIO'!C125 -> 4166.6667 | F22: =+E22*C22 -> 4166.6667 | Q22: =+A22 -> 4111 | R22: =+B22 -> 4 MM CLARO | S22: =+T22*$K$8 -> 1 | T22: 1 | U22: =+E22:E32 -> 4166.6667 | V22: =+U22*S22 -> 4166.6667
A23: =+'ACCESORIOS DE ALUMINIO Y ACERO'!A255 -> 3254 | B23: =+'ACCESORIOS DE ALUMINIO Y ACERO'!B255 -> EMPAQUE 5020 | C23: =+D23*$K$8 -> 6 | D23: 6 | E23: =+'ACCESORIOS DE ALUMINIO Y ACERO'!C255 -> 1150 | F23: =+E23*C23 -> 6900 | Q23: =+A23 -> 3254 | R23: =+B23 -> EMPAQUE 5020 | S23: =+T23*$K$8 -> 6 | T23: 6 | U23: =+E23:E33 -> 1150 | V23: =+U23*S23 -> 6900
A24: =+'ACCESORIOS DE ALUMINIO Y ACERO'!A282 -> 3281 | B24: =+'ACCESORIOS DE ALUMINIO Y ACERO'!B282 -> FELPA | C24: =+D24*$K$8 -> 2 | D24: 2 | E24: =+'ACCESORIOS DE ALUMINIO Y ACERO'!C282 -> 320 | F24: =+E24*C24 -> 640 | Q24: =+A24 -> 3281 | R24: =+B24 -> FELPA | S24: =+T24*$K$8 -> 2 | T24: 2 | U24: =+E24:E34 -> 320 | V24: =+U24*S24 -> 640
C25: =+D25*$K$8 -> 0 | F25: =+E25*C25 -> 0 | S25: =+T25*$K$8 -> 0 | V25: =+U25*S25 -> 0
A26: TOTAL | F26: =SUM(F14:F25) -> 56806.667 | G26: TOTAL | J26: =SUM(J14) -> 7489.7793 | K26: TOTAL | M26: =+SUM(M14:M22) -> 40965.856 | Q26: TOTAL | S26: =+SUM(V14:V25) -> 56806.667 | W26: TOTAL | Y26: =+SUM(Z14:Z19) -> 4344.072 | AA26: TOTAL | AC26: =+SUM(AC14:AC22) -> 38961.599
A28: RESUMEN | Q28: RESUMEN
A29: MATERIAL DIRECTO | E29: =+F26 -> 56806.667 | G29: GASTOS INDIRECTOS | K29: COSTO DE PRODUCCION | M29: =+E29+E30+E31+J29+J30+J31 -> 105262.3 | Q29: MATERIAL DIRECTO | U29: =+S26 -> 56806.667 | W29: GASTOS INDIRECTOS | AA29: COSTO DE PRODUCCION | AC29: =+U29+U30+U31+Z29+Z30+Z31 -> 100112.34
A30: MANO DE OBRA DIRECTA | E30: =+J26 -> 7489.7793 | G30: GASTOS DE ADMINISTRACION | K30: COSTO UNITARIO | M30: =+M29/1 -> 105262.3 | Q30: MANO DE OBRA DIRECTA | U30: =+Y26 -> 4344.072 | W30: GASTOS DE ADMINISTRACION | AA30: COSTO UNITARIO | AC30: =+AC29/1 -> 100112.34
A31: COSTOS INDIRECTOS DE FABRICACION | E31: =+M26 -> 40965.856 | G31: GASTOS DE VENTA | K31: UTLIDAD | L31: 0.3 | M31: =+M30*L31 -> 31578.691 | Q31: COSTOS INDIRECTOS DE FABRICACION | U31: =+AC26 -> 38961.599 | W31: GASTOS DE VENTA | AA31: UTLIDAD | AB31: 0.3 | AC31: =+AC30*AB31 -> 30033.701
K32: PRECIO VENTA | M32: =+M31+M30 -> 136840.99 | AA32: PRECIO VENTA | AC32: =+AC31+AC30 -> 130146.04
F34: =+G34/H34 -> 90.811398 | G34: 8878859.4 | H34: =+F26+M26 -> 97772.523
F35: =+G35/H34 -> 7.5041168 | G35: 733696.43

Sheet PRUEBA PILOTO PUERTA
A1: SERNALUMINIOS | O1: SERNALUMINIOS
A2: HOJA DE COSTO | O2: COTIZADOR
A4: CLIENTE | O4: CLIENTE
A5: NIT | O5: NIT
A8: ARTICULO A PRODUCIR | C8: PUERTA EN PERCIANA DE ALUMINIO un metro x 2,10 | I8: CANTIDAD | K8: =+Y8 -> 1 | O8: ARTICULO A PRODUCIR | Q8: PUERTA EN PERCIANA DE ALUMINIO | W8: CANTIDAD | Y8: 1
A10: INICIADO | G10: TERMINADO | O10: INICIADO | U10: TERMINADO
A12: MATERIALES | G12: MANO DE OBRA | K12: COSTOS INDIRECTOS | O12: MATERIALES | U12: MANO DE OBRA | Y12: COSTOS INDIRECTOS
A13: CODIGO | B13: MATERIALES | C13: CANTIDAD TOTAL | D13: cantidad unitaria | E13: PRECIO UNITARIO | F13: VALOR TOTAL | G13: HORAS TRABAJADAS | H13: HORAS POR UNIDAD | I13: VALOR | J13: VALOR TOTAL | K13: ASIGNACION | L13: NIVEL DE ACTIVIDAD | M13: TOTAL | O13: CODIGO | P13: MATERIALES | Q13: CANTIDAD TOTAL | R13: cantidad unitaria | S13: PRECIO UNITARIO | T13: VALOR TOTAL | U13: HORAS TRABAJADAS | V13: HORAS POR UNIDAD | W13: VALOR | X13: VALOR TOTAL | Y13: ASIGNACION | Z13: NIVEL DE ACTIVIDAD | AA13: TOTAL
A14: 4059 | B14: CANAL EN U 78 MARCO DE PUERTA | C14: =+D14*$K$8 -> 7 | D14: 7 | E14: =+'SISTEMAS DE ALUMINIO'!D68 -> 7500 | F14: =E14*C14 -> 52500 | G14: =+H14*K8 -> 6 | H14: 6 | I14: =+MOD_ALUMINIO_!P23 -> 7489.7793 | J14: =+I14*G14 -> 44938.676 | K14: ='COSTOS INDIRECTOS DE FABRICACIO'!$D$62+'COSTOS INDIRECTOS DE FABRICACIO'!$D$63 -> 0.63714029 | L14: =+F25+J25 -> 447005.34 | M14: =+L14*K14 -> 284805.11 | O14: =+'SISTEMAS DE ALUMINIO'!A68 -> 4059 | P14: =+'SISTEMAS DE ALUMINIO'!B68 -> CANAL EN U 78 MARCO DE PUERTA | Q14: =+R14*$K$8 -> 7 | R14: 7 | S14: =+'SISTEMAS DE ALUMINIO'!D68 -> 7500 | T14: =S14*Q14 -> 52500 | U14: =+V14*Y8 -> 5 | V14: 5 | W14: =+MOD_ALUMINIO_!P23 -> 7489.7793 | X14: =+W14*U14 -> 37448.896 | Y14: ='COSTOS INDIRECTOS DE FABRICACIO'!$D$62+'COSTOS INDIRECTOS DE FABRICACIO'!$D$63 -> 0.63714029 | Z14: =+T25+X25 -> 427515.56 | AA14: =+Z14*Y14 -> 272387.39
A15: =+'SISTEMAS DE ALUMINIO'!A84 -> 4074 | B15: =+'SISTEMAS DE ALUMINIO'!B84 -> TUBULAR 103 3X1 1/2 | C15: =+D15*$K$8 -> 7 | D15: 7 | E15: =+'SISTEMAS DE ALUMINIO'!D84 -> 13500 | F15: =E15*C15 -> 94500 | O15: =+'SISTEMAS DE ALUMINIO'!A84 -> 4074 | P15: =+'SISTEMAS DE ALUMINIO'!B84 -> TUBULAR 103 3X1 1/2 | Q15: =+R15*$K$8 -> 7 | R15: 7 | S15: =+'SISTEMAS DE ALUMINIO'!D84 -> 13500 | T15: =S15*Q15 -> 94500
A16: 4019 | B16: 175 ADAPTADOR | C16: =+D16*$K$8 -> 7 | D16: 7 | E16: =+'SISTEMAS DE ALUMINIO'!D23 -> 3666.6667 | F16: =E16*C16 -> 25666.667 | O16: =+'SISTEMAS DE ALUMINIO'!A23 -> 4019 | P16: =+'SISTEMAS DE ALUMINIO'!B23 -> 175 ADAPTADOR | Q16: =+R16*$K$8 -> 7 | R16: 7 | S16: =+'SISTEMAS DE ALUMINIO'!D23 -> 3666.6667 | T16: =S16*Q16 -> 25666.667
A17: 4096 | B17: 315 PERSIANA | C17: =+D17*$K$8 -> 42 | D17: 42 | E17: =+'SISTEMAS DE ALUMINIO'!D108 -> 3833.3333 | F17: =E17*C17 -> 161000 | O17: =+'SISTEMAS DE ALUMINIO'!A108 -> 4096 | P17: =+'SISTEMAS DE ALUMINIO'!B108 -> 315 PERSIANA | Q17: =+R17*$K$8 -> 42 | R17: 42 | S17: =+'SISTEMAS DE ALUMINIO'!D108 -> 3833.3333 | T17: =S17*Q17 -> 161000
A18: 3064 | B18: BISAGRA DOBLE | C18: =+D18*$K$8 -> 3 | D18: 3 | E18: 6000 | F18: =E18*C18 -> 18000 | O18: =+'ACCESORIOS DE ALUMINIO Y ACERO'!A65 -> 3064 | P18: =+'ACCESORIOS DE ALUMINIO Y ACERO'!B65 -> BISAGRA DOBLE | Q18: =+R18*$K$8 -> 1 | R18: 1 | S18: =+'ACCESORIOS DE ALUMINIO Y ACERO'!C65 -> 6000 | T18: =S18*Q18 -> 6000
A19: 3148 | B19: CHAPA BOLA ALCOBA COLOR MADERA | C19: =+D19*$K$8 -> 1 | D19: 1 | E19: 25000 | F19: =E19*C19 -> 25000 | O19: =+'ACCESORIOS DE ALUMINIO Y ACERO'!A149 -> 3148 | P19: =+'ACCESORIOS DE ALUMINIO Y ACERO'!B149 -> CHAPA BOLA ALCOBA COLOR MADERA | Q19: =+R19*$K$8 -> 1 | R19: 1 | S19: =+'ACCESORIOS DE ALUMINIO Y ACERO'!C149 -> 25000 | T19: =S19*Q19 -> 25000
A20: 3282 | B20: TENSOR | C20: =+D20*$K$8 -> 1 | D20: 1 | E20: 5000 | F20: =E20*C20 -> 5000 | O20: =+'ACCESORIOS DE ALUMINIO Y ACERO'!A283 -> 3282 | P20: =+'ACCESORIOS DE ALUMINIO Y ACERO'!B283 -> TENSOR | Q20: =+R20*$K$8 -> 1 | R20: 1 | S20: =+'ACCESORIOS DE ALUMINIO Y ACERO'!C283 -> 5000 | T20: =S20*Q20 -> 5000
A21: 3097 | B21: PASADOR DE LUJO GRANDE BLANCO | C21: =+D21*$K$8 -> 1 | D21: 1 | E21: 7000 | F21: =E21*C21 -> 7000 | O21: =+'ACCESORIOS DE ALUMINIO Y ACERO'!A98 -> 3097 | P21: =+'ACCESORIOS DE ALUMINIO Y ACERO'!B98 -> PASADOR DE LUJO GRANDE BLANCO | Q21: =+R21*$K$8 -> 1 | R21: 1 | S21: =+'ACCESORIOS DE ALUMINIO Y ACERO'!C98 -> 7000 | T21: =S21*Q21 -> 7000
A22: 3283 | B22: CHAPETAS | C22: =+D22*$K$8 -> 8 | D22: 8 | E22: =+'ACCESORIOS DE ALUMINIO Y ACERO'!C284 -> 800 | F22: =E22*C22 -> 6400 | O22: =+'ACCESORIOS DE ALUMINIO Y ACERO'!A284 -> 3283 | P22: =+'ACCESORIOS DE ALUMINIO Y ACERO'!B284 -> CHAPETAS | Q22: =+R22*$K$8 -> 8 | R22: 8 | S22: =+'ACCESORIOS DE ALUMINIO Y ACERO'!C284 -> 800 | T22: =S22*Q22 -> 6400
A23: 3229 | B23: TORNILLOS 8X3 C.P CRUDOS | C23: =+D23*$K$8 -> 200 | D23: 200 | E23: 35 | F23: =E23*C23 -> 7000 | O23: =+'ACCESORIOS DE ALUMINIO Y ACERO'!A230 -> 3229 | P23: =+'ACCESORIOS DE ALUMINIO Y ACERO'!B230 -> TORNILLOS 8X3 C.P CRUDOS | Q23: =+R23*$K$8 -> 200 | R23: 200 | S23: =+'ACCESORIOS DE ALUMINIO Y ACERO'!C230 -> 35 | T23: =S23*Q23 -> 7000
A25: TOTAL | F25: =+SUM(F14:F23) -> 402066.67 | G25: TOTAL | J25: =+SUM(J14) -> 44938.676 | K25: TOTAL | M25: =+SUM(M14:M21) -> 284805.11 | O25: TOTAL | T25: =+SUM(T14:T23) -> 390066.67 | U25: TOTAL | X25: =+SUM(X14) -> 37448.896 | Y25: TOTAL | AA25: =+SUM(AA14:AA21) -> 272387.39
A27: RESUMEN | O27: RESUMEN
A28: MATERIAL DIRECTO | E28: =+F25 -> 402066.67 | G28: GASTOS INDIRECTOS | K28: COSTO DE PRODUCCION | M28: =E28+E29+E30+J28+J29+J30 -> 686871.78 | O28: MATERIAL DIRECTO | S28: =+T25 -> 390066.67 | U28: GASTOS INDIRECTOS | Y28: COSTO DE PRODUCCION | AA28: =S28+S29+S30+X28+X29+X30 -> 699902.95
A29: MANO DE OBRA DIRECTA | E29: =+I25 -> 0 | G29: GASTOS DE ADMINISTRACION | K29: COSTO UNITARIO | M29: =+M28/1 -> 686871.78 | O29: MANO DE OBRA DIRECTA | S29: =+X25 -> 37448.896 | U29: GASTOS DE ADMINISTRACION | Y29: COSTO UNITARIO | AA29: =+AA28/1 -> 699902.95
A30: COSTOS INDIRECTOS DE FABRICACION | E30: =+M25 -> 284805.11 | G30: GASTOS DE VENTA | K30: UTLIDAD | L30: 0.25 | M30: =+M29*L30 -> 171717.94 | O30: COSTOS INDIRECTOS DE FABRICACION | S30: =+AA25 -> 272387.39 | U30: GASTOS DE VENTA | Y30: UTLIDAD | Z30: 0.25 | AA30: =+AA29*Z30 -> 174975.74
K31: PRECIO VENTA | M31: =+M30+M29 -> 858589.72 | Y31: PRECIO VENTA | AA31: =+AA30+AA29 -> 874878.69
M33: 590000

Sheet VARIACIONES_2
D2: variacion ventana
D4: ELEMENTO DEL COSTO | E4: relacion | G4: DIFERENCIA TOTAL
